BEGIN:VCALENDAR
VERSION:2.0
PRODID:-//York RI Squash Club - ECPv6.15.20//NONSGML v1.0//EN
CALSCALE:GREGORIAN
METHOD:PUBLISH
X-WR-CALNAME:York RI Squash Club
X-ORIGINAL-URL:https://yorkrisquashclub.co.uk
X-WR-CALDESC:Events for York RI Squash Club
REFRESH-INTERVAL;VALUE=DURATION:PT1H
X-Robots-Tag:noindex
X-PUBLISHED-TTL:PT1H
BEGIN:VTIMEZONE
TZID:Europe/London
BEGIN:DAYLIGHT
TZOFFSETFROM:+0000
TZOFFSETTO:+0100
TZNAME:BST
DTSTART:20230326T010000
END:DAYLIGHT
BEGIN:STANDARD
TZOFFSETFROM:+0100
TZOFFSETTO:+0000
TZNAME:GMT
DTSTART:20231029T010000
END:STANDARD
BEGIN:DAYLIGHT
TZOFFSETFROM:+0000
TZOFFSETTO:+0100
TZNAME:BST
DTSTART:20240331T010000
END:DAYLIGHT
BEGIN:STANDARD
TZOFFSETFROM:+0100
TZOFFSETTO:+0000
TZNAME:GMT
DTSTART:20241027T010000
END:STANDARD
BEGIN:DAYLIGHT
TZOFFSETFROM:+0000
TZOFFSETTO:+0100
TZNAME:BST
DTSTART:20250330T010000
END:DAYLIGHT
BEGIN:STANDARD
TZOFFSETFROM:+0100
TZOFFSETTO:+0000
TZNAME:GMT
DTSTART:20251026T010000
END:STANDARD
BEGIN:DAYLIGHT
TZOFFSETFROM:+0000
TZOFFSETTO:+0100
TZNAME:BST
DTSTART:20260329T010000
END:DAYLIGHT
BEGIN:STANDARD
TZOFFSETFROM:+0100
TZOFFSETTO:+0000
TZNAME:GMT
DTSTART:20261025T010000
END:STANDARD
END:VTIMEZONE
BEGIN:VEVENT
DTSTART;TZID=Europe/London:20250523T193000
DTEND;TZID=Europe/London:20250523T202000
DTSTAMP:20260422T230728
CREATED:20250511T013747Z
LAST-MODIFIED:20250511T013759Z
UID:932-1748028600-1748031600@yorkrisquashclub.co.uk
SUMMARY:Intro to Squash (England Squash 101)
DESCRIPTION:Intro to Squash – Friday 19:30-20:20 \nNew to Squash? Start off in the right direction \nComing back to the game? Refresh your skills and meet people \nSession: Quick warm up\, ball control work and practice games all at the right level for the group. \nRun by the York RI Squash Club Coaches (all ESL1)\, it is a group class showcasing the fun of squash. \nEquipment provided\, just bring your trainers. \nCost: Club Members £1 – Visitors £3
URL:https://yorkrisquashclub.co.uk/event/intro-to-squash-england-squash-101-2/
LOCATION:York RI
CATEGORIES:Coaching,York RI Squash Club
ORGANIZER;CN="Ian Ball":MAILTO:ianball11@yahoo.co.uk
END:VEVENT
BEGIN:VEVENT
DTSTART;TZID=Europe/London:20250516T193000
DTEND;TZID=Europe/London:20250516T203000
DTSTAMP:20260422T230728
CREATED:20250203T171332Z
LAST-MODIFIED:20250511T013442Z
UID:791-1747423800-1747427400@yorkrisquashclub.co.uk
SUMMARY:Intro to Squash (England Squash 101)
DESCRIPTION:Intro to Squash – Friday 18:30-19:30 \nNew to Squash? Start off in the right direction \nComing back to the game? Refresh your skills and meet people \nSession: Quick warm up\, ball control work and practice games all at the right level for the group. \nRun by the York RI Squash Club Coaches (all ESL1)\, it is a group class showcasing the fun of squash. \nEquipment provided\, just bring your trainers. \nCost: Club Members £1 – Visitors £3
URL:https://yorkrisquashclub.co.uk/event/intro-to-squash-england-squash-coach-level-1/
LOCATION:York RI
CATEGORIES:Coaching,York RI Squash Club
ORGANIZER;CN="Ian Ball":MAILTO:ianball11@yahoo.co.uk
END:VEVENT
BEGIN:VEVENT
DTSTART;TZID=Europe/London:20250416T193000
DTEND;TZID=Europe/London:20250416T220000
DTSTAMP:20260422T230728
CREATED:20250228T165515Z
LAST-MODIFIED:20250302T135617Z
UID:840-1744831800-1744840800@yorkrisquashclub.co.uk
SUMMARY:Team Game - York 7 (H)
DESCRIPTION:
URL:https://yorkrisquashclub.co.uk/event/team-game-york-7-h/
CATEGORIES:York RI Squash Club
ORGANIZER;CN="Ian Ball":MAILTO:ianball11@yahoo.co.uk
END:VEVENT
BEGIN:VEVENT
DTSTART;TZID=Europe/London:20250409T193000
DTEND;TZID=Europe/London:20250409T220000
DTSTAMP:20260422T230728
CREATED:20250228T165336Z
LAST-MODIFIED:20250320T181538Z
UID:836-1744227000-1744236000@yorkrisquashclub.co.uk
SUMMARY:Team Game - Kirkbymoorside 3 (H)
DESCRIPTION:
URL:https://yorkrisquashclub.co.uk/event/team-game-kirkbymoorside-3-h/
LOCATION:York RI
CATEGORIES:Team Squash
ORGANIZER;CN="Ian Ball":MAILTO:ianball11@yahoo.co.uk
END:VEVENT
BEGIN:VEVENT
DTSTART;TZID=Europe/London:20250403T190000
DTEND;TZID=Europe/London:20250403T213000
DTSTAMP:20260422T230728
CREATED:20250307T164647Z
LAST-MODIFIED:20250307T170445Z
UID:847-1743706800-1743715800@yorkrisquashclub.co.uk
SUMMARY:Team Game - Malton 3 (A)
DESCRIPTION:
URL:https://yorkrisquashclub.co.uk/event/team-game-malton-3-a-2/
CATEGORIES:Team Squash
END:VEVENT
BEGIN:VEVENT
DTSTART;TZID=Europe/London:20250331T192000
DTEND;TZID=Europe/London:20250331T222000
DTSTAMP:20260422T230728
CREATED:20250302T144746Z
LAST-MODIFIED:20250313T113103Z
UID:843-1743448800-1743459600@yorkrisquashclub.co.uk
SUMMARY:Team Game - Wigginton 8
DESCRIPTION:York RI1 travel to Stillington courts to take on Wigginton 8.  So many teams at Wigginton they have to outsource court use to Stillington.
URL:https://yorkrisquashclub.co.uk/event/team-game-wigginton-8/
LOCATION:Stillington\, York Road\, Stillington\, YO61 1LJ\, United Kingdom
CATEGORIES:Team Squash
ORGANIZER;CN="Ian Ball":MAILTO:ianball11@yahoo.co.uk
END:VEVENT
BEGIN:VEVENT
DTSTART;TZID=Europe/London:20250319T193000
DTEND;TZID=Europe/London:20250319T213000
DTSTAMP:20260422T230728
CREATED:20250228T165438Z
LAST-MODIFIED:20250228T165438Z
UID:838-1742412600-1742419800@yorkrisquashclub.co.uk
SUMMARY:Team Game - Scarborough 3 (A)
DESCRIPTION:
URL:https://yorkrisquashclub.co.uk/event/team-game-scarborough-3-a/
END:VEVENT
BEGIN:VEVENT
DTSTART;TZID=Europe/London:20250217T190000
DTEND;TZID=Europe/London:20250217T213000
DTSTAMP:20260422T230728
CREATED:20250120T170603Z
LAST-MODIFIED:20250120T170603Z
UID:777-1739818800-1739827800@yorkrisquashclub.co.uk
SUMMARY:Team Game (A) - Stillington 3
DESCRIPTION:
URL:https://yorkrisquashclub.co.uk/event/team-game-a-stillington-3/
END:VEVENT
BEGIN:VEVENT
DTSTART;TZID=Europe/London:20250212T192000
DTEND;TZID=Europe/London:20250212T213000
DTSTAMP:20260422T230728
CREATED:20250120T170526Z
LAST-MODIFIED:20250120T170526Z
UID:775-1739388000-1739395800@yorkrisquashclub.co.uk
SUMMARY:Team Game (H) - York 8
DESCRIPTION:
URL:https://yorkrisquashclub.co.uk/event/team-game-h-york-8/
END:VEVENT
BEGIN:VEVENT
DTSTART;TZID=Europe/London:20250130T190000
DTEND;TZID=Europe/London:20250130T220000
DTSTAMP:20260422T230728
CREATED:20250120T170243Z
LAST-MODIFIED:20250120T170243Z
UID:769-1738263600-1738274400@yorkrisquashclub.co.uk
SUMMARY:Team Game (A) - Pocklington 2
DESCRIPTION:
URL:https://yorkrisquashclub.co.uk/event/team-game-a-pocklington-2/
END:VEVENT
BEGIN:VEVENT
DTSTART;TZID=Europe/London:20250107T194000
DTEND;TZID=Europe/London:20250107T213000
DTSTAMP:20260422T230728
CREATED:20241214T080638Z
LAST-MODIFIED:20241214T080710Z
UID:736-1736278800-1736285400@yorkrisquashclub.co.uk
SUMMARY:Riley Cup (1st Round) - York RI vs Wigginton 5
DESCRIPTION:
URL:https://yorkrisquashclub.co.uk/event/riley-cup-1st-round-york-ri-vs-wigginton-5/
END:VEVENT
BEGIN:VEVENT
DTSTART;VALUE=DATE:20241222
DTEND;VALUE=DATE:20250102
DTSTAMP:20260422T230728
CREATED:20241219T173421Z
LAST-MODIFIED:20241219T173421Z
UID:742-1734825600-1735775999@yorkrisquashclub.co.uk
SUMMARY:York RI Closed
DESCRIPTION:
URL:https://yorkrisquashclub.co.uk/event/york-ri-closed/
END:VEVENT
BEGIN:VEVENT
DTSTART;TZID=Europe/London:20241211T193000
DTEND;TZID=Europe/London:20241211T220000
DTSTAMP:20260422T230728
CREATED:20241123T112707Z
LAST-MODIFIED:20241123T112707Z
UID:682-1733945400-1733954400@yorkrisquashclub.co.uk
SUMMARY:Team Game (H) - Wigginton 8
DESCRIPTION:
URL:https://yorkrisquashclub.co.uk/event/team-game-h-wigginton-8/
END:VEVENT
BEGIN:VEVENT
DTSTART;TZID=Europe/London:20241204T174000
DTEND;TZID=Europe/London:20241204T190000
DTSTAMP:20260422T230728
CREATED:20241201T165450Z
LAST-MODIFIED:20241201T165450Z
UID:725-1733334000-1733338800@yorkrisquashclub.co.uk
SUMMARY:Club Night
DESCRIPTION:
URL:https://yorkrisquashclub.co.uk/event/club-night-3/
END:VEVENT
BEGIN:VEVENT
DTSTART;TZID=Europe/London:20241202T173000
DTEND;TZID=Europe/London:20241202T213000
DTSTAMP:20260422T230728
CREATED:20241123T112546Z
LAST-MODIFIED:20241123T112546Z
UID:680-1733160600-1733175000@yorkrisquashclub.co.uk
SUMMARY:Team Game (A) - Kirbymoorside
DESCRIPTION:
URL:https://yorkrisquashclub.co.uk/event/team-game-a-kirbymoorside/
END:VEVENT
BEGIN:VEVENT
DTSTART;TZID=Europe/London:20241129T182000
DTEND;TZID=Europe/London:20241129T194000
DTSTAMP:20260422T230728
CREATED:20241123T112814Z
LAST-MODIFIED:20241123T112814Z
UID:684-1732904400-1732909200@yorkrisquashclub.co.uk
SUMMARY:Club Night
DESCRIPTION:
URL:https://yorkrisquashclub.co.uk/event/club-night-2/
END:VEVENT
BEGIN:VEVENT
DTSTART;TZID=Europe/London:20241127T193000
DTEND;TZID=Europe/London:20241127T213000
DTSTAMP:20260422T230728
CREATED:20241117T143838Z
LAST-MODIFIED:20241117T143838Z
UID:585-1732735800-1732743000@yorkrisquashclub.co.uk
SUMMARY:Team Game (H) - Malton 3
DESCRIPTION:
URL:https://yorkrisquashclub.co.uk/event/team-game-h-malton-3/
END:VEVENT
BEGIN:VEVENT
DTSTART;TZID=Europe/London:20241121T173000
DTEND;TZID=Europe/London:20241121T210000
DTSTAMP:20260422T230728
CREATED:20241117T143754Z
LAST-MODIFIED:20241117T143754Z
UID:583-1732210200-1732222800@yorkrisquashclub.co.uk
SUMMARY:Team Game (Away) - Thornton Le Dale 2
DESCRIPTION:
URL:https://yorkrisquashclub.co.uk/event/team-game-away-thornton-le-dale-2/
END:VEVENT
BEGIN:VEVENT
DTSTART;TZID=Europe/London:20241120T174000
DTEND;TZID=Europe/London:20241120T190000
DTSTAMP:20260422T230728
CREATED:20241117T143655Z
LAST-MODIFIED:20241117T143655Z
UID:580-1732124400-1732129200@yorkrisquashclub.co.uk
SUMMARY:Club Night
DESCRIPTION:
URL:https://yorkrisquashclub.co.uk/event/club-night/
LOCATION:York RI
END:VEVENT
END:VCALENDAR