BEGIN:VCALENDAR
VERSION:2.0
PRODID:-//York RI Squash Club - ECPv6.15.20//NONSGML v1.0//EN
CALSCALE:GREGORIAN
METHOD:PUBLISH
X-WR-CALNAME:York RI Squash Club
X-ORIGINAL-URL:https://yorkrisquashclub.co.uk
X-WR-CALDESC:Events for York RI Squash Club
REFRESH-INTERVAL;VALUE=DURATION:PT1H
X-Robots-Tag:noindex
X-PUBLISHED-TTL:PT1H
BEGIN:VTIMEZONE
TZID:Europe/London
BEGIN:DAYLIGHT
TZOFFSETFROM:+0000
TZOFFSETTO:+0100
TZNAME:BST
DTSTART:20250330T010000
END:DAYLIGHT
BEGIN:STANDARD
TZOFFSETFROM:+0100
TZOFFSETTO:+0000
TZNAME:GMT
DTSTART:20251026T010000
END:STANDARD
BEGIN:DAYLIGHT
TZOFFSETFROM:+0000
TZOFFSETTO:+0100
TZNAME:BST
DTSTART:20260329T010000
END:DAYLIGHT
BEGIN:STANDARD
TZOFFSETFROM:+0100
TZOFFSETTO:+0000
TZNAME:GMT
DTSTART:20261025T010000
END:STANDARD
BEGIN:DAYLIGHT
TZOFFSETFROM:+0000
TZOFFSETTO:+0100
TZNAME:BST
DTSTART:20270328T010000
END:DAYLIGHT
BEGIN:STANDARD
TZOFFSETFROM:+0100
TZOFFSETTO:+0000
TZNAME:GMT
DTSTART:20271031T010000
END:STANDARD
END:VTIMEZONE
BEGIN:VEVENT
DTSTART;TZID=Europe/London:20260622T182000
DTEND;TZID=Europe/London:20260622T194000
DTSTAMP:20260422T023646
CREATED:20251210T171655Z
LAST-MODIFIED:20251210T171655Z
UID:1239-1782152400-1782157200@yorkrisquashclub.co.uk
SUMMARY:York RI Squash Club Night
DESCRIPTION:Squash Club Night- Monday 18:20-19:40 \nOpen to All \nRun by York RI England Squash Level 1 coaches \nEquipment can be provided\, just bring your trainers \nCost:  Club Members £1 – Visitors £4
URL:https://yorkrisquashclub.co.uk/event/york-ri-squash-club-night-25/
LOCATION:York RI
CATEGORIES:Coaching
ORGANIZER;CN="Ian Ball":MAILTO:ianball11@yahoo.co.uk
END:VEVENT
BEGIN:VEVENT
DTSTART;TZID=Europe/London:20260615T182000
DTEND;TZID=Europe/London:20260615T194000
DTSTAMP:20260422T023646
CREATED:20251210T171655Z
LAST-MODIFIED:20251210T171655Z
UID:1238-1781547600-1781552400@yorkrisquashclub.co.uk
SUMMARY:York RI Squash Club Night
DESCRIPTION:Squash Club Night- Monday 18:20-19:40 \nOpen to All \nRun by York RI England Squash Level 1 coaches \nEquipment can be provided\, just bring your trainers \nCost:  Club Members £1 – Visitors £4
URL:https://yorkrisquashclub.co.uk/event/york-ri-squash-club-night-24/
LOCATION:York RI
CATEGORIES:Coaching
ORGANIZER;CN="Ian Ball":MAILTO:ianball11@yahoo.co.uk
END:VEVENT
BEGIN:VEVENT
DTSTART;TZID=Europe/London:20260608T182000
DTEND;TZID=Europe/London:20260608T194000
DTSTAMP:20260422T023646
CREATED:20251210T171655Z
LAST-MODIFIED:20251210T171655Z
UID:1237-1780942800-1780947600@yorkrisquashclub.co.uk
SUMMARY:York RI Squash Club Night
DESCRIPTION:Squash Club Night- Monday 18:20-19:40 \nOpen to All \nRun by York RI England Squash Level 1 coaches \nEquipment can be provided\, just bring your trainers \nCost:  Club Members £1 – Visitors £4
URL:https://yorkrisquashclub.co.uk/event/york-ri-squash-club-night-23/
LOCATION:York RI
CATEGORIES:Coaching
ORGANIZER;CN="Ian Ball":MAILTO:ianball11@yahoo.co.uk
END:VEVENT
BEGIN:VEVENT
DTSTART;TZID=Europe/London:20260601T182000
DTEND;TZID=Europe/London:20260601T194000
DTSTAMP:20260422T023646
CREATED:20251210T171655Z
LAST-MODIFIED:20251210T171655Z
UID:1236-1780338000-1780342800@yorkrisquashclub.co.uk
SUMMARY:York RI Squash Club Night
DESCRIPTION:Squash Club Night- Monday 18:20-19:40 \nOpen to All \nRun by York RI England Squash Level 1 coaches \nEquipment can be provided\, just bring your trainers \nCost:  Club Members £1 – Visitors £4
URL:https://yorkrisquashclub.co.uk/event/york-ri-squash-club-night-22/
LOCATION:York RI
CATEGORIES:Coaching
ORGANIZER;CN="Ian Ball":MAILTO:ianball11@yahoo.co.uk
END:VEVENT
BEGIN:VEVENT
DTSTART;TZID=Europe/London:20260525T182000
DTEND;TZID=Europe/London:20260525T194000
DTSTAMP:20260422T023646
CREATED:20251210T171655Z
LAST-MODIFIED:20251210T171655Z
UID:1235-1779733200-1779738000@yorkrisquashclub.co.uk
SUMMARY:York RI Squash Club Night
DESCRIPTION:Squash Club Night- Monday 18:20-19:40 \nOpen to All \nRun by York RI England Squash Level 1 coaches \nEquipment can be provided\, just bring your trainers \nCost:  Club Members £1 – Visitors £4
URL:https://yorkrisquashclub.co.uk/event/york-ri-squash-club-night-21/
LOCATION:York RI
CATEGORIES:Coaching
ORGANIZER;CN="Ian Ball":MAILTO:ianball11@yahoo.co.uk
END:VEVENT
BEGIN:VEVENT
DTSTART;TZID=Europe/London:20260518T182000
DTEND;TZID=Europe/London:20260518T194000
DTSTAMP:20260422T023646
CREATED:20251210T171640Z
LAST-MODIFIED:20251210T171640Z
UID:1234-1779128400-1779133200@yorkrisquashclub.co.uk
SUMMARY:York RI Squash Club Night
DESCRIPTION:Squash Club Night- Monday 18:20-19:40 \nOpen to All \nRun by York RI England Squash Level 1 coaches \nEquipment can be provided\, just bring your trainers \nCost:  Club Members £1 – Visitors £4
URL:https://yorkrisquashclub.co.uk/event/york-ri-squash-club-night-20/
LOCATION:York RI
CATEGORIES:Coaching
ORGANIZER;CN="Ian Ball":MAILTO:ianball11@yahoo.co.uk
END:VEVENT
BEGIN:VEVENT
DTSTART;TZID=Europe/London:20260511T182000
DTEND;TZID=Europe/London:20260511T194000
DTSTAMP:20260422T023646
CREATED:20251210T171640Z
LAST-MODIFIED:20251210T171640Z
UID:1233-1778523600-1778528400@yorkrisquashclub.co.uk
SUMMARY:York RI Squash Club Night
DESCRIPTION:Squash Club Night- Monday 18:20-19:40 \nOpen to All \nRun by York RI England Squash Level 1 coaches \nEquipment can be provided\, just bring your trainers \nCost:  Club Members £1 – Visitors £4
URL:https://yorkrisquashclub.co.uk/event/york-ri-squash-club-night-19/
LOCATION:York RI
CATEGORIES:Coaching
ORGANIZER;CN="Ian Ball":MAILTO:ianball11@yahoo.co.uk
END:VEVENT
BEGIN:VEVENT
DTSTART;TZID=Europe/London:20260504T182000
DTEND;TZID=Europe/London:20260504T194000
DTSTAMP:20260422T023646
CREATED:20251210T171640Z
LAST-MODIFIED:20251210T171640Z
UID:1232-1777918800-1777923600@yorkrisquashclub.co.uk
SUMMARY:York RI Squash Club Night
DESCRIPTION:Squash Club Night- Monday 18:20-19:40 \nOpen to All \nRun by York RI England Squash Level 1 coaches \nEquipment can be provided\, just bring your trainers \nCost:  Club Members £1 – Visitors £4
URL:https://yorkrisquashclub.co.uk/event/york-ri-squash-club-night-18/
LOCATION:York RI
CATEGORIES:Coaching
ORGANIZER;CN="Ian Ball":MAILTO:ianball11@yahoo.co.uk
END:VEVENT
BEGIN:VEVENT
DTSTART;TZID=Europe/London:20260427T182000
DTEND;TZID=Europe/London:20260427T194000
DTSTAMP:20260422T023646
CREATED:20251210T171640Z
LAST-MODIFIED:20251210T171640Z
UID:1231-1777314000-1777318800@yorkrisquashclub.co.uk
SUMMARY:York RI Squash Club Night
DESCRIPTION:Squash Club Night- Monday 18:20-19:40 \nOpen to All \nRun by York RI England Squash Level 1 coaches \nEquipment can be provided\, just bring your trainers \nCost:  Club Members £1 – Visitors £4
URL:https://yorkrisquashclub.co.uk/event/york-ri-squash-club-night-17/
LOCATION:York RI
CATEGORIES:Coaching
ORGANIZER;CN="Ian Ball":MAILTO:ianball11@yahoo.co.uk
END:VEVENT
BEGIN:VEVENT
DTSTART;TZID=Europe/London:20260420T182000
DTEND;TZID=Europe/London:20260420T194000
DTSTAMP:20260422T023646
CREATED:20251210T171640Z
LAST-MODIFIED:20251210T171640Z
UID:1230-1776709200-1776714000@yorkrisquashclub.co.uk
SUMMARY:York RI Squash Club Night
DESCRIPTION:Squash Club Night- Monday 18:20-19:40 \nOpen to All \nRun by York RI England Squash Level 1 coaches \nEquipment can be provided\, just bring your trainers \nCost:  Club Members £1 – Visitors £4
URL:https://yorkrisquashclub.co.uk/event/york-ri-squash-club-night-16/
LOCATION:York RI
CATEGORIES:Coaching
ORGANIZER;CN="Ian Ball":MAILTO:ianball11@yahoo.co.uk
END:VEVENT
BEGIN:VEVENT
DTSTART;TZID=Europe/London:20260413T182000
DTEND;TZID=Europe/London:20260413T194000
DTSTAMP:20260422T023646
CREATED:20251210T171625Z
LAST-MODIFIED:20251210T171625Z
UID:1229-1776104400-1776109200@yorkrisquashclub.co.uk
SUMMARY:York RI Squash Club Night
DESCRIPTION:Squash Club Night- Monday 18:20-19:40 \nOpen to All \nRun by York RI England Squash Level 1 coaches \nEquipment can be provided\, just bring your trainers \nCost:  Club Members £1 – Visitors £4
URL:https://yorkrisquashclub.co.uk/event/york-ri-squash-club-night-15/
LOCATION:York RI
CATEGORIES:Coaching
ORGANIZER;CN="Ian Ball":MAILTO:ianball11@yahoo.co.uk
END:VEVENT
BEGIN:VEVENT
DTSTART;TZID=Europe/London:20260406T182000
DTEND;TZID=Europe/London:20260406T194000
DTSTAMP:20260422T023646
CREATED:20251210T171625Z
LAST-MODIFIED:20251210T171625Z
UID:1228-1775499600-1775504400@yorkrisquashclub.co.uk
SUMMARY:York RI Squash Club Night
DESCRIPTION:Squash Club Night- Monday 18:20-19:40 \nOpen to All \nRun by York RI England Squash Level 1 coaches \nEquipment can be provided\, just bring your trainers \nCost:  Club Members £1 – Visitors £4
URL:https://yorkrisquashclub.co.uk/event/york-ri-squash-club-night-14/
LOCATION:York RI
CATEGORIES:Coaching
ORGANIZER;CN="Ian Ball":MAILTO:ianball11@yahoo.co.uk
END:VEVENT
BEGIN:VEVENT
DTSTART;TZID=Europe/London:20260330T182000
DTEND;TZID=Europe/London:20260330T194000
DTSTAMP:20260422T023646
CREATED:20251210T171625Z
LAST-MODIFIED:20251210T171625Z
UID:1227-1774894800-1774899600@yorkrisquashclub.co.uk
SUMMARY:York RI Squash Club Night
DESCRIPTION:Squash Club Night- Monday 18:20-19:40 \nOpen to All \nRun by York RI England Squash Level 1 coaches \nEquipment can be provided\, just bring your trainers \nCost:  Club Members £1 – Visitors £4
URL:https://yorkrisquashclub.co.uk/event/york-ri-squash-club-night-13/
LOCATION:York RI
CATEGORIES:Coaching
ORGANIZER;CN="Ian Ball":MAILTO:ianball11@yahoo.co.uk
END:VEVENT
BEGIN:VEVENT
DTSTART;TZID=Europe/London:20260323T182000
DTEND;TZID=Europe/London:20260323T194000
DTSTAMP:20260422T023646
CREATED:20251210T171625Z
LAST-MODIFIED:20251210T171625Z
UID:1226-1774290000-1774294800@yorkrisquashclub.co.uk
SUMMARY:York RI Squash Club Night
DESCRIPTION:Squash Club Night- Monday 18:20-19:40 \nOpen to All \nRun by York RI England Squash Level 1 coaches \nEquipment can be provided\, just bring your trainers \nCost:  Club Members £1 – Visitors £4
URL:https://yorkrisquashclub.co.uk/event/york-ri-squash-club-night-12/
LOCATION:York RI
CATEGORIES:Coaching
ORGANIZER;CN="Ian Ball":MAILTO:ianball11@yahoo.co.uk
END:VEVENT
BEGIN:VEVENT
DTSTART;TZID=Europe/London:20260318T190000
DTEND;TZID=Europe/London:20260318T190000
DTSTAMP:20260422T023646
CREATED:20251210T172719Z
LAST-MODIFIED:20251210T172719Z
UID:1252-1773860400-1773860400@yorkrisquashclub.co.uk
SUMMARY:Team Squash - Scarborough 3 (H)
DESCRIPTION:Team Squash
URL:https://yorkrisquashclub.co.uk/event/team-squash-scarborough-3-h/
LOCATION:York RI
CATEGORIES:Team Squash
END:VEVENT
BEGIN:VEVENT
DTSTART;TZID=Europe/London:20260316T182000
DTEND;TZID=Europe/London:20260316T194000
DTSTAMP:20260422T023646
CREATED:20251210T171625Z
LAST-MODIFIED:20251210T171625Z
UID:1225-1773685200-1773690000@yorkrisquashclub.co.uk
SUMMARY:York RI Squash Club Night
DESCRIPTION:Squash Club Night- Monday 18:20-19:40 \nOpen to All \nRun by York RI England Squash Level 1 coaches \nEquipment can be provided\, just bring your trainers \nCost:  Club Members £1 – Visitors £4
URL:https://yorkrisquashclub.co.uk/event/york-ri-squash-club-night-11/
LOCATION:York RI
CATEGORIES:Coaching
ORGANIZER;CN="Ian Ball":MAILTO:ianball11@yahoo.co.uk
END:VEVENT
BEGIN:VEVENT
DTSTART;TZID=Europe/London:20260315T192000
DTEND;TZID=Europe/London:20260315T192000
DTSTAMP:20260422T023646
CREATED:20251210T172719Z
LAST-MODIFIED:20251210T172719Z
UID:1251-1773602400-1773602400@yorkrisquashclub.co.uk
SUMMARY:Team Squash - Wiggington 8 (A)
DESCRIPTION:Team Squash
URL:https://yorkrisquashclub.co.uk/event/team-squash-wiggington-8-a/
LOCATION:York RI
CATEGORIES:Team Squash
END:VEVENT
BEGIN:VEVENT
DTSTART;TZID=Europe/London:20260309T182000
DTEND;TZID=Europe/London:20260309T194000
DTSTAMP:20260422T023646
CREATED:20251210T171610Z
LAST-MODIFIED:20251210T171610Z
UID:1224-1773080400-1773085200@yorkrisquashclub.co.uk
SUMMARY:York RI Squash Club Night
DESCRIPTION:Squash Club Night- Monday 18:20-19:40 \nOpen to All \nRun by York RI England Squash Level 1 coaches \nEquipment can be provided\, just bring your trainers \nCost:  Club Members £1 – Visitors £4
URL:https://yorkrisquashclub.co.uk/event/york-ri-squash-club-night-10/
LOCATION:York RI
CATEGORIES:Coaching
ORGANIZER;CN="Ian Ball":MAILTO:ianball11@yahoo.co.uk
END:VEVENT
BEGIN:VEVENT
DTSTART;TZID=Europe/London:20260304T190000
DTEND;TZID=Europe/London:20260304T190000
DTSTAMP:20260422T023646
CREATED:20251210T172719Z
LAST-MODIFIED:20251210T172719Z
UID:1250-1772650800-1772650800@yorkrisquashclub.co.uk
SUMMARY:Team Squash - Malton 3 (H)
DESCRIPTION:Team Squash
URL:https://yorkrisquashclub.co.uk/event/team-squash-malton-3-h/
LOCATION:York RI
CATEGORIES:Team Squash
END:VEVENT
BEGIN:VEVENT
DTSTART;TZID=Europe/London:20260302T182000
DTEND;TZID=Europe/London:20260302T194000
DTSTAMP:20260422T023646
CREATED:20251210T171610Z
LAST-MODIFIED:20251210T171610Z
UID:1223-1772475600-1772480400@yorkrisquashclub.co.uk
SUMMARY:York RI Squash Club Night
DESCRIPTION:Squash Club Night- Monday 18:20-19:40 \nOpen to All \nRun by York RI England Squash Level 1 coaches \nEquipment can be provided\, just bring your trainers \nCost:  Club Members £1 – Visitors £4
URL:https://yorkrisquashclub.co.uk/event/york-ri-squash-club-night-9/
LOCATION:York RI
CATEGORIES:Coaching
ORGANIZER;CN="Ian Ball":MAILTO:ianball11@yahoo.co.uk
END:VEVENT
BEGIN:VEVENT
DTSTART;TZID=Europe/London:20260223T182000
DTEND;TZID=Europe/London:20260223T194000
DTSTAMP:20260422T023646
CREATED:20251210T171610Z
LAST-MODIFIED:20251210T171610Z
UID:1222-1771870800-1771875600@yorkrisquashclub.co.uk
SUMMARY:York RI Squash Club Night
DESCRIPTION:Squash Club Night- Monday 18:20-19:40 \nOpen to All \nRun by York RI England Squash Level 1 coaches \nEquipment can be provided\, just bring your trainers \nCost:  Club Members £1 – Visitors £4
URL:https://yorkrisquashclub.co.uk/event/york-ri-squash-club-night-8/
LOCATION:York RI
CATEGORIES:Coaching
ORGANIZER;CN="Ian Ball":MAILTO:ianball11@yahoo.co.uk
END:VEVENT
BEGIN:VEVENT
DTSTART;TZID=Europe/London:20260216T182000
DTEND;TZID=Europe/London:20260216T194000
DTSTAMP:20260422T023646
CREATED:20251210T171610Z
LAST-MODIFIED:20251210T171610Z
UID:1221-1771266000-1771270800@yorkrisquashclub.co.uk
SUMMARY:York RI Squash Club Night
DESCRIPTION:Squash Club Night- Monday 18:20-19:40 \nOpen to All \nRun by York RI England Squash Level 1 coaches \nEquipment can be provided\, just bring your trainers \nCost:  Club Members £1 – Visitors £4
URL:https://yorkrisquashclub.co.uk/event/york-ri-squash-club-night-7/
LOCATION:York RI
CATEGORIES:Coaching
ORGANIZER;CN="Ian Ball":MAILTO:ianball11@yahoo.co.uk
END:VEVENT
BEGIN:VEVENT
DTSTART;TZID=Europe/London:20260210T192000
DTEND;TZID=Europe/London:20260210T214000
DTSTAMP:20260422T023646
CREATED:20251210T172718Z
LAST-MODIFIED:20251212T163557Z
UID:1249-1770751200-1770759600@yorkrisquashclub.co.uk
SUMMARY:Team Squash - 	University Students 2 (A)
DESCRIPTION:Team Squash
URL:https://yorkrisquashclub.co.uk/event/team-squash-university-students-2-a/
LOCATION:York RI
CATEGORIES:Team Squash
END:VEVENT
BEGIN:VEVENT
DTSTART;TZID=Europe/London:20260209T182000
DTEND;TZID=Europe/London:20260209T194000
DTSTAMP:20260422T023646
CREATED:20251210T171610Z
LAST-MODIFIED:20251210T171610Z
UID:1220-1770661200-1770666000@yorkrisquashclub.co.uk
SUMMARY:York RI Squash Club Night
DESCRIPTION:Squash Club Night- Monday 18:20-19:40 \nOpen to All \nRun by York RI England Squash Level 1 coaches \nEquipment can be provided\, just bring your trainers \nCost:  Club Members £1 – Visitors £4
URL:https://yorkrisquashclub.co.uk/event/york-ri-squash-club-night-6/
LOCATION:York RI
CATEGORIES:Coaching
ORGANIZER;CN="Ian Ball":MAILTO:ianball11@yahoo.co.uk
END:VEVENT
BEGIN:VEVENT
DTSTART;TZID=Europe/London:20260204T190000
DTEND;TZID=Europe/London:20260204T214000
DTSTAMP:20260422T023646
CREATED:20251210T172718Z
LAST-MODIFIED:20251210T172718Z
UID:1248-1770231600-1770241200@yorkrisquashclub.co.uk
SUMMARY:Team Squash - Pocklington 3 (H)
DESCRIPTION:Team Squash
URL:https://yorkrisquashclub.co.uk/event/team-squash-pocklington-3-h/
LOCATION:York RI
CATEGORIES:Team Squash
END:VEVENT
BEGIN:VEVENT
DTSTART;TZID=Europe/London:20260202T182000
DTEND;TZID=Europe/London:20260202T194000
DTSTAMP:20260422T023646
CREATED:20251210T171608Z
LAST-MODIFIED:20251210T171608Z
UID:1219-1770056400-1770061200@yorkrisquashclub.co.uk
SUMMARY:York RI Squash Club Night
DESCRIPTION:Squash Club Night- Monday 18:20-19:40 \nOpen to All \nRun by York RI England Squash Level 1 coaches \nEquipment can be provided\, just bring your trainers \nCost:  Club Members £1 – Visitors £4
URL:https://yorkrisquashclub.co.uk/event/york-ri-squash-club-night-5/
LOCATION:York RI
CATEGORIES:Coaching
ORGANIZER;CN="Ian Ball":MAILTO:ianball11@yahoo.co.uk
END:VEVENT
BEGIN:VEVENT
DTSTART;TZID=Europe/London:20260127T190000
DTEND;TZID=Europe/London:20260127T214000
DTSTAMP:20260422T023646
CREATED:20251210T172717Z
LAST-MODIFIED:20251212T163511Z
UID:1247-1769540400-1769550000@yorkrisquashclub.co.uk
SUMMARY:Team Squash - Stillington 3 (A)
DESCRIPTION:Team Squash
URL:https://yorkrisquashclub.co.uk/event/team-squash-stillington-3-a/
LOCATION:York RI
CATEGORIES:Team Squash
END:VEVENT
BEGIN:VEVENT
DTSTART;TZID=Europe/London:20260126T182000
DTEND;TZID=Europe/London:20260126T194000
DTSTAMP:20260422T023646
CREATED:20251210T171608Z
LAST-MODIFIED:20251210T171608Z
UID:1218-1769451600-1769456400@yorkrisquashclub.co.uk
SUMMARY:York RI Squash Club Night
DESCRIPTION:Squash Club Night- Monday 18:20-19:40 \nOpen to All \nRun by York RI England Squash Level 1 coaches \nEquipment can be provided\, just bring your trainers \nCost:  Club Members £1 – Visitors £4
URL:https://yorkrisquashclub.co.uk/event/york-ri-squash-club-night-4/
LOCATION:York RI
CATEGORIES:Coaching
ORGANIZER;CN="Ian Ball":MAILTO:ianball11@yahoo.co.uk
END:VEVENT
BEGIN:VEVENT
DTSTART;TZID=Europe/London:20260121T190000
DTEND;TZID=Europe/London:20260121T214000
DTSTAMP:20260422T023646
CREATED:20251210T172717Z
LAST-MODIFIED:20251210T172717Z
UID:1246-1769022000-1769031600@yorkrisquashclub.co.uk
SUMMARY:Team Squash - York 9 (H)
DESCRIPTION:Team Squash
URL:https://yorkrisquashclub.co.uk/event/team-squash-york-9-h/
LOCATION:York RI
CATEGORIES:Team Squash
END:VEVENT
BEGIN:VEVENT
DTSTART;TZID=Europe/London:20260119T182000
DTEND;TZID=Europe/London:20260119T194000
DTSTAMP:20260422T023646
CREATED:20251210T171608Z
LAST-MODIFIED:20251210T171608Z
UID:1217-1768846800-1768851600@yorkrisquashclub.co.uk
SUMMARY:York RI Squash Club Night
DESCRIPTION:Squash Club Night- Monday 18:20-19:40 \nOpen to All \nRun by York RI England Squash Level 1 coaches \nEquipment can be provided\, just bring your trainers \nCost:  Club Members £1 – Visitors £4
URL:https://yorkrisquashclub.co.uk/event/york-ri-squash-club-night-3/
LOCATION:York RI
CATEGORIES:Coaching
ORGANIZER;CN="Ian Ball":MAILTO:ianball11@yahoo.co.uk
END:VEVENT
END:VCALENDAR